Workbook

Sheet Kcal
B2: DIA | C2: ALIMENTO | D2: Kcal por 100g | E2: Kcal por quantidade | F2: Kcal Total
B3: SEGUNDA | C3: alface crespa | D3: 11 | E3: =(D3*'Ndpcal%'!D3)/100 -> 3.3 | F3: =SUM(E3:E13) -> 700.8
C4: pepino | D4: 10 | E4: =(D4*'Ndpcal%'!D4)/100 -> 5
C5: agrião | D5: 17 | E5: =(D5*'Ndpcal%'!D5)/100 -> 5.1
C6: beterraba | D6: 32 | E6: =(D6*'Ndpcal%'!D6)/100 -> 12.8
C7: farinha | D7: 365 | E7: =(D7*'Ndpcal%'!D7)/100 -> 146
C8: arroz | D8: 128 | E8: =(D8*'Ndpcal%'!D8)/100 -> 128
C9: feijão | D9: 76 | E9: =(D9*'Ndpcal%'!D9)/100 -> 45.6
C10: sobrecoxa | D10: 260 | E10: =(D10*'Ndpcal%'!D10)/100 -> 234
C11: couve-flor cozida | D11: 25 | E11: =(D11*'Ndpcal%'!D11)/100 -> 15
C12: suco polpa morango | D12: 50 | E12: =(D12*'Ndpcal%'!D12)/100 -> 60
C13: banana | D13: 92 | E13: =(D13*'Ndpcal%'!D13)/100 -> 46
B14: TERÇA | C14: rúcula | D14: 13 | E14: =(D14*'Ndpcal%'!D14)/100 -> 3.9 | F14: =SUM(E14:E24) -> 720.8
C15: tomate | D15: 15 | E15: =(D15*'Ndpcal%'!D15)/100 -> 7.5
C16: repolho roxo | D16: 31 | E16: =(D16*'Ndpcal%'!D16)/100 -> 9.3
C17: azeitona | D17: 194 | E17: =(D17*'Ndpcal%'!D17)/100 -> 77.6
C18: farinha | D18: 365 | E18: =(D18*'Ndpcal%'!D18)/100 -> 146
C19: arroz | D19: 128 | E19: =(D19*'Ndpcal%'!D19)/100 -> 128
C20: feijão | D20: 76 | E20: =(D20*'Ndpcal%'!D20)/100 -> 45.6
C21: carne moída | D21: 212 | E21: =(D21*'Ndpcal%'!D21)/100 -> 212
C22: abóbora | D22: 48 | E22: =(D22*'Ndpcal%'!D22)/100 -> 14.4
C23: suco polpa manga | D23: 60 | E23: =(D23*'Ndpcal%'!D23)/100 -> 60
C24: melancia | D24: 33 | E24: =(D24*'Ndpcal%'!D24)/100 -> 16.5
B25: QUARTA | C25: repolho verde | D25: 17 | E25: =(D25*'Ndpcal%'!D25)/100 -> 8.5 | F25: =SUM(E25:E35) -> 698.85
C26: cenoura | D26: 30 | E26: =(D26*'Ndpcal%'!D26)/100 -> 15
C27: alface lisa | D27: 11 | E27: =(D27*'Ndpcal%'!D27)/100 -> 2.75
C28: pimentão | D28: 21 | E28: =(D28*'Ndpcal%'!D28)/100 -> 12.6
C29: farinha | D29: 365 | E29: =(D29*'Ndpcal%'!D29)/100 -> 146
C30: arroz | D30: 128 | E30: =(D30*'Ndpcal%'!D30)/100 -> 128
C31: feijão | D31: 76 | E31: =(D31*'Ndpcal%'!D31)/100 -> 45.6
C32: tilápia | D32: 122 | E32: =(D32*'Ndpcal%'!D32)/100 -> 122
C33: berinjela empanada | D33: 228 | E33: =(D33*'Ndpcal%'!D33)/100 -> 136.8
C34: suco polpa goiaba | D34: 40 | E34: =(D34*'Ndpcal%'!D34)/100 -> 48
C35: maçã | D35: 56 | E35: =(D35*'Ndpcal%'!D35)/100 -> 33.6
B36: QUINTA | C36: chicória | D36: 14 | E36: =(D36*'Ndpcal%'!D36)/100 -> 4.2 | F36: =SUM(E36:E46) -> 615.3
C37: beterraba | D37: 32 | E37: =(D37*'Ndpcal%'!D37)/100 -> 12.8
C38: repolho roxo | D38: 31 | E38: =(D38*'Ndpcal%'!D38)/100 -> 12.4
C39: pepino | D39: 10 | E39: =(D39*'Ndpcal%'!D39)/100 -> 5
C40: farinha | D40: 365 | E40: =(D40*'Ndpcal%'!D40)/100 -> 146
C41: arroz | D41: 128 | E41: =(D41*'Ndpcal%'!D41)/100 -> 128
...

Sheet Ndpcal%
B2: DIA | C2: ALIMENTO | D2: QUANTIDADE | E2: PTN 100 | F2: PTN REAL | G2: PTN ABSORVÍVEL | H2: PTN TOTAL | I2: KCAL TOTAL | J2: PTN em KCAL | K2: NDPCal% | L2: SITUAÇÃO
B3: SEGUNDA | C3: alface crespa | D3: 30 | E3: 1.3 | F3: =(E3/100)*D3 -> 0.39 | G3: =F3*0.5 -> 0.195 | H3: =SUM(G3:G13) -> 22.599 | I3: =SUM(Kcal!E3:E11) -> 594.8 | J3: =H3*4 -> 90.396 | K3: =(J3*100)/I3 -> 15.197714 | L3: =IF(K3>10,"ACIMA",IF(K3<10,"ABAIXO",IF(K3=10, "BOM"))) -> ACIMA
C4: pepino | D4: 50 | E4: 0.9 | F4: =(E4/100)*D4 -> 0.45 | G4: =F4*0.5 -> 0.225
C5: agrião | D5: 30 | E5: 1.4 | F5: =(E5/100)*D5 -> 0.42 | G5: =F5*0.5 -> 0.21
C6: beterraba | D6: 40 | E6: 1.3 | F6: =(E6/100)*D6 -> 0.52 | G6: =F6*0.5 -> 0.26
C7: farinha | D7: 40 | E7: 1.2 | F7: =(E7/100)*D7 -> 0.48 | G7: =F7*0.5 -> 0.24
C8: arroz | D8: 100 | E8: 2.6 | F8: =(E8/100)*D8 -> 2.6 | G8: =F8*0.5 -> 1.3
C9: feijão | D9: 60 | E9: 4.8 | F9: =(E9/100)*D9 -> 2.88 | G9: =F9*0.6 -> 1.728
C10: sobrecoxa | D10: 90 | E10: 28.7 | F10: =(E10/100)*D10 -> 25.83 | G10: =F10*0.7 -> 18.081
C11: couve-flor cozida | D11: 60 | E11: 1.2 | F11: =(E11/100)*D11 -> 0.72 | G11: =F11*0.5 -> 0.36
C12: suco polpa morango | D12: 120
C13: banana | D13: 50
B14: TERÇA | C14: rúcula | D14: 30 | E14: 1.8 | F14: =(E14/100)*D14 -> 0.54 | G14: =F14*0.5 -> 0.27 | H14: =SUM(G14:G24) -> 22.935 | I14: =SUM(Kcal!E14:E22) -> 644.3 | J14: =H14*4 -> 91.74 | K14: =(J14*100)/I14 -> 14.238709 | L14: =IF(K14>10,"ACIMA",IF(K14<10,"ABAIXO",IF(K14=10, "BOM"))) -> ACIMA
C15: tomate | D15: 50 | E15: 0.8 | F15: =(E15/100)*D15 -> 0.4 | G15: =F15*0.5 -> 0.2
C16: repolho roxo | D16: 30 | E16: 1.9 | F16: =(E16/100)*D16 -> 0.57 | G16: =F16*0.5 -> 0.285
C17: azeitona | D17: 40 | E17: 0.9 | F17: =(E17/100)*D17 -> 0.36 | G17: =F17*0.5 -> 0.18
C18: farinha | D18: 40 | E18: 1.2 | F18: =(E18/100)*D18 -> 0.48 | G18: =F18*0.5 -> 0.24
C19: arroz | D19: 100 | E19: 2.6 | F19: =(E19/100)*D19 -> 2.6 | G19: =F19*0.5 -> 1.3
C20: feijão | D20: 60 | E20: 4.8 | F20: =(E20/100)*D20 -> 2.88 | G20: =F30*0.6 -> 1.56
C21: carne moída | D21: 100 | E21: 26.7 | F21: =(E21/100)*D21 -> 26.7 | G21: =F21*0.7 -> 18.69
C22: abóbora | D22: 30 | E22: 1.4 | F22: =(E22/100)*D22 -> 0.42 | G22: =F22*0.5 -> 0.21
C23: suco polpa manga | D23: 100
C24: melancia | D24: 50
B25: QUARTA | C25: repolho verde | D25: 50 | E25: 1.3 | F25: =(E25/100)*D25 -> 0.65 | G25: =F25*0.5 -> 0.325 | H25: =SUM(G25:G35) -> 22.3725 | I25: =SUM(Kcal!E25:E33) -> 617.25 | J25: =H25*4 -> 89.49 | K25: =(J25*100)/I25 -> 14.498177 | L25: =IF(K25>10,"ACIMA",IF(K25<10,"ABAIXO",IF(K25=10, "BOM"))) -> ACIMA
C26: cenoura | D26: 50 | E26: 0.9 | F26: =(E26/100)*D26 -> 0.45 | G26: =F26*0.5 -> 0.225
C27: alface lisa | D27: 25 | E27: 1.3 | F27: =(E27/100)*D27 -> 0.325 | G27: =F27*0.5 -> 0.1625
C28: pimentão | D28: 60 | E28: 0.9 | F28: =(E28/100)*D28 -> 0.54 | G28: =F28*0.5 -> 0.27
C29: farinha | D29: 40 | E29: 1.2 | F29: =(E29/100)*D29 -> 0.48 | G29: =F29*0.5 -> 0.24
C30: arroz | D30: 100 | E30: 2.6 | F30: =(E30/100)*D30 -> 2.6 | G30: =F30*0.5 -> 1.3
C31: feijão | D31: 60 | E31: 4.8 | F31: =(E31/100)*D31 -> 2.88 | G31: =F31*0.5 -> 1.44
C32: tilápia | D32: 100 | E32: 26 | F32: =(E32/100)*D32 -> 26 | G32: =F32*0.7 -> 18.2
C33: berinjela empanada | D33: 60 | E33: 0.7 | F33: =(E33/100)*D33 -> 0.42 | G33: =F33*0.5 -> 0.21
C34: suco polpa goiaba | D34: 120
C35: maçã | D35: 60
B36: QUINTA | C36: chicória | D36: 30 | E36: 1.1 | F36: =(E36/100)*D36 -> 0.33 | G36: =F36*0.5 -> 0.165 | H36: =SUM(G36:G46) -> 21.79 | I36: =SUM(Kcal!E36:E44) -> 520.6 | J36: =H36*4 -> 87.16 | K36: =(J36*100)/I36 -> 16.742221 | L36: =IF(K36>10,"ACIMA",IF(K36<10,"ABAIXO",IF(K36=10, "BOM"))) -> ACIMA
C37: beterraba | D37: 40 | E37: 1.3 | F37: =(E37/100)*D37 -> 0.52 | G37: =F37*0.5 -> 0.26
C38: repolho roxo | D38: 40 | E38: 1.4 | F38: =(E38/100)*D38 -> 0.56 | G38: =F38*0.5 -> 0.28
C39: pepino | D39: 50 | E39: 0.9 | F39: =(E39/100)*D39 -> 0.45 | G39: =F39*0.5 -> 0.225
C40: farinha | D40: 40 | E40: 1.2 | F40: =(E40/100)*D40 -> 0.48 | G40: =F40*0.5 -> 0.24
C41: arroz | D41: 100 | E41: 2.6 | F41: =(E41/100)*D41 -> 2.6 | G41: =F41*0.5 -> 1.3
...

Sheet CURVA ABC
B2: Alimento | C2: Preço por kg (R$) | D2: Quantidade em kg | E2: Custo Total | F2: % | G2: Classificação ABC
B3: almondegas | C3: 48.99 | D3: 60 | E3: =C3*D3 -> 2939.4 | F3: =E3*100/23630.03 -> 12.439256 | G3: A
B4: ovos | C4: 24.5 | D4: 90 | E4: =C4*D4 -> 2205 | F4: =E4*100/23630.03 -> 9.3313466 | G4: A
B5: tilápia | C5: 48.62 | D5: 30 | E5: =C5*D5 -> 1458.6 | F5: =E5*100/23630.03 -> 6.172654 | G5: A
B6: carne moída | C6: 44.9 | D6: 30 | E6: =C6*D6 -> 1347 | F6: =E6*100/23630.03 -> 5.7003736 | G6: A
B7: arroz | C7: 5.99 | D7: 210 | E7: =C7*D7 -> 1257.9 | F7: =E7*100/23630.03 -> 5.3233111 | G7: A
B8: feijão | C8: 8.54 | D8: 126 | E8: =C8*D8 -> 1076.04 | F8: =E8*100/23630.03 -> 4.5536971 | G8: A
B9: farinha | C9: 12.53 | D9: 84 | E9: =C9*D9 -> 1052.52 | F9: =E9*100/23630.03 -> 4.4541628 | G9: A
B10: suco polpa maracujá | C10: 44.9 | D10: 30 | E10: =C10*D10 -> 1347 | F10: =E10*100/23630.03 -> 5.7003736 | G10: A
B11: suco polpa manga | C11: 38.9 | D11: 30 | E11: =C11*D11 -> 1167 | F11: =E11*100/23630.03 -> 4.9386311 | G11: A
B12: suco polpa morango | C12: 30.5 | D12: 30 | E12: =C12*D12 -> 915 | F12: =E12*100/23630.03 -> 3.8721914 | G12: A
B13: suco polpa acerola | C13: 29.8 | D13: 30 | E13: =C13*D13 -> 894 | F13: =E13*100/23630.03 -> 3.7833215 | G13: A
B14: calabresa | C14: 28.99 | D14: 30 | E14: =C14*D14 -> 869.7 | F14: =E14*100/23630.03 -> 3.6804862 | G14: A
... B17: suco polpa goiaba | C17: 20.6 | D17: 30 | E17: =C17*D17 -> 618 | F17: =E17*100/23630.03 -> 2.6153162 | G17: A
E18: TOTAL A | F18: =SUM(F3:F17) -> 78.773324
B19: filé de peito | C19: 19.9 | D19: 30 | E19: =C19*D19 -> 597 | F19: =E19*100/23630.03 -> 2.5264462 | G19: B
B20: rúcula | C20: 32.72 | D20: 18 | E20: =C20*D20 -> 588.96 | F20: =E20*100/23630.03 -> 2.4924217 | G20: B
B21: pimentão | C21: 12.4 | D21: 36 | E21: =C21*D21 -> 446.4 | F21: =E21*100/23630.03 -> 1.8891216 | G21: B
B22: sobrecoxa | C22: 13.5 | D22: 27 | E22: =C22*D22 -> 364.5 | F22: =E22*100/23630.03 -> 1.5425287 | G22: B
B23: agrião | C23: 34 | D23: 9 | E23: =C23*D23 -> 306 | F23: =E23*100/23630.03 -> 1.2949624 | G23: B
B24: maçã | C24: 14.98 | D24: 18 | E24: =C24*D24 -> 269.64 | F24: =E24*100/23630.03 -> 1.1410904 | G24: B
B25: chicória | C25: 29.16 | D25: 9 | E25: =C25*D25 -> 262.44 | F25: =E25*100/23630.03 -> 1.1106207 | G25: B
B26: tomate | C26: 7.99 | D26: 30 | E26: =C26*D26 -> 239.7 | F26: =E26*100/23630.03 -> 1.0143872 | G26: B
B27: abacaxi | C27: 15 | D27: 15 | E27: =C27*D27 -> 225 | F27: =E27*100/23630.03 -> 0.95217822 | G27: B
B28: alface crespa | C28: 16.66 | D28: 9 | E28: =C28*D28 -> 149.94 | F28: =E28*100/23630.03 -> 0.63453157 | G28: B
B29: alface lisa | C29: 19.97 | D29: 7.5 | E29: =C29*D29 -> 149.775 | F29: =E29*100/23630.03 -> 0.6338333 | G29: B
B30: pepino | C30: 4.99 | D30: 30 | E30: =C30*D30 -> 149.7 | F30: =E30*100/23630.03 -> 0.63351591 | G30: B
... B32: laranja | C32: 7.15 | D32: 18 | E32: =C32*D32 -> 128.7 | F32: =E32*100/23630.03 -> 0.54464594 | G32: B
E33: TOTAL B | F33: =SUM(F19:F32) -> 17.012061
B34: melão | C34: 6.98 | D34: 18 | E34: =C34*D34 -> 125.64 | F34: =E34*100/23630.03 -> 0.53169632 | G34: C
B35: repolho roxo | C35: 6.98 | D35: 18 | E35: =C35*D35 -> 125.64 | F35: =E35*100/23630.03 -> 0.53169632 | G35: C
B36: beterraba | C36: 4.99 | D36: 24 | E36: =C36*D36 -> 119.76 | F36: =E36*100/23630.03 -> 0.50681273 | G36: C
B37: cenoura | C37: 3.99 | D37: 30 | E37: =C37*D37 -> 119.7 | F37: =E37*100/23630.03 -> 0.50655882 | G37: C
B38: melancia | C38: 7.98 | D38: 15 | E38: =C38*D38 -> 119.7 | F38: =E38*100/23630.03 -> 0.50655882 | G38: C
B39: repolho verde | C39: 5.98 | D39: 18 | E39: =C39*D39 -> 107.64 | F39: =E39*100/23630.03 -> 0.45552206 | G39: C
B40: banana | C40: 6.99 | D40: 15 | E40: =C40*D40 -> 104.85 | F40: =E40*100/23630.03 -> 0.44371505 | G40: C
B41: abóbora | C41: 8.78 | D41: 9 | E41: =C41*D41 -> 79.02 | F41: =E41*100/23630.03 -> 0.33440499 | G41: C
B42: creme de milho | C42: 6.46 | D42: 9 | E42: =C42*D42 -> 58.14 | F42: =E42*100/23630.03 -> 0.24604285 | G42: C
B43: chuchu cozido | C43: 1.99 | D43: 18 | E43: =C43*D43 -> 35.82 | F43: =E43*100/23630.03 -> 0.15158677 | G43: C
E44: TOTAL C | F44: =SUM(F34:F43) -> 4.2145947
...
